BEGIN:VCALENDAR
VERSION:2.0
PRODID:-//Dorset County ASA - ECPv4.8.1//NONSGML v1.0//EN
CALSCALE:GREGORIAN
METHOD:PUBLISH
X-WR-CALNAME:Dorset County ASA
X-ORIGINAL-URL:https://beta.dorsetasa.org
X-WR-CALDESC:Events for Dorset County ASA
BEGIN:VEVENT
DTSTART;TZID=Europe/London:20150315T003000
DTEND;TZID=Europe/London:20150315T180000
DTSTAMP:20260424T120150
CREATED:20150202T153543Z
LAST-MODIFIED:20150202T153543Z
UID:1068-1426379400-1426442400@beta.dorsetasa.org
SUMMARY:Young Volunteers Workshop 2
DESCRIPTION:
URL:https://beta.dorsetasa.org/calendar/young-volunteers-workshop-2/
LOCATION:Canford
END:VEVENT
END:VCALENDAR