BEGIN:VCALENDAR
VERSION:2.0
PRODID:-//Dorset County ASA - ECPv4.8.1//NONSGML v1.0//EN
CALSCALE:GREGORIAN
METHOD:PUBLISH
X-WR-CALNAME:Dorset County ASA
X-ORIGINAL-URL:https://beta.dorsetasa.org
X-WR-CALDESC:Events for Dorset County ASA
BEGIN:VEVENT
DTSTART;TZID=UTC+0:20160128T190000
DTEND;TZID=UTC+0:20160128T213000
DTSTAMP:20260423T160101
CREATED:20160114T102600Z
LAST-MODIFIED:20160114T102747Z
UID:1591-1454007600-1454016600@beta.dorsetasa.org
SUMMARY:Team Managers L2 course
DESCRIPTION:
URL:https://beta.dorsetasa.org/calendar/team-managers-l2-course/
LOCATION:Canford Sports Centre\, Canford Magna\, Wimborne BH21 3AD.
END:VEVENT
END:VCALENDAR