BEGIN:VCALENDAR
VERSION:2.0
PRODID:-//Dorset County ASA - ECPv4.8.1//NONSGML v1.0//EN
CALSCALE:GREGORIAN
METHOD:PUBLISH
X-WR-CALNAME:Dorset County ASA
X-ORIGINAL-URL:https://beta.dorsetasa.org
X-WR-CALDESC:Events for Dorset County ASA
BEGIN:VEVENT
DTSTART;TZID=UTC+0:20161130T183000
DTEND;TZID=UTC+0:20161130T213000
DTSTAMP:20260420T071129
CREATED:20161019T174737Z
LAST-MODIFIED:20161019T174737Z
UID:2033-1480530600-1480541400@beta.dorsetasa.org
SUMMARY:L2 Team Managers Course
DESCRIPTION:
URL:https://beta.dorsetasa.org/calendar/l2-team-managers-course/
LOCATION:Canford Sports Centre\, Canford Magna\, Wimborne BH21 3AD.
END:VEVENT
END:VCALENDAR