BEGIN:VCALENDAR
VERSION:2.0
PRODID:-//Dorset County ASA - ECPv4.8.1//NONSGML v1.0//EN
CALSCALE:GREGORIAN
METHOD:PUBLISH
X-WR-CALNAME:Dorset County ASA
X-ORIGINAL-URL:https://beta.dorsetasa.org
X-WR-CALDESC:Events for Dorset County ASA
BEGIN:VEVENT
DTSTART;TZID=Europe/London:20150307T180000
DTEND;TZID=Europe/London:20150307T210000
DTSTAMP:20260424T154947
CREATED:20140519T194726Z
LAST-MODIFIED:20140519T194726Z
UID:915-1425751200-1425762000@beta.dorsetasa.org
SUMMARY:Dorset Novice Swimming League Round 3
DESCRIPTION:
URL:https://beta.dorsetasa.org/calendar/dorset-novice-swimming-league-round-3/
LOCATION:Littledown and Dorchester
CATEGORIES:Novice League,Swimming
END:VEVENT
END:VCALENDAR