BEGIN:VCALENDAR
VERSION:2.0
PRODID:-//Dorset County ASA - ECPv4.8.1//NONSGML v1.0//EN
CALSCALE:GREGORIAN
METHOD:PUBLISH
X-WR-CALNAME:Dorset County ASA
X-ORIGINAL-URL:https://beta.dorsetasa.org
X-WR-CALDESC:Events for Dorset County ASA
BEGIN:VEVENT
DTSTART;TZID=Europe/London:20150207T180000
DTEND;TZID=Europe/London:20150207T210000
DTSTAMP:20260425T013510
CREATED:20140519T194622Z
LAST-MODIFIED:20140914T203912Z
UID:913-1423332000-1423342800@beta.dorsetasa.org
SUMMARY:Dorset Novice Swimming League Round 2
DESCRIPTION:
URL:https://beta.dorsetasa.org/calendar/dorset-novice-swimming-league-round-2/
LOCATION:Dorchester and Weymouth
CATEGORIES:Novice League,Swimming
END:VEVENT
END:VCALENDAR