BEGIN:VCALENDAR
VERSION:2.0
PRODID:-//Dorset County ASA - ECPv4.8.1//NONSGML v1.0//EN
CALSCALE:GREGORIAN
METHOD:PUBLISH
X-WR-CALNAME:Dorset County ASA
X-ORIGINAL-URL:https://beta.dorsetasa.org
X-WR-CALDESC:Events for Dorset County ASA
BEGIN:VEVENT
DTSTART;TZID=Europe/London:20150205T194500
DTEND;TZID=Europe/London:20150205T213000
DTSTAMP:20260425T031838
CREATED:20150202T152545Z
LAST-MODIFIED:20150202T152545Z
UID:1060-1423165500-1423171800@beta.dorsetasa.org
SUMMARY:DCASA Executive Meeting
DESCRIPTION:
URL:https://beta.dorsetasa.org/calendar/dcasa-executive-meeting/
LOCATION:Dorchester
END:VEVENT
END:VCALENDAR