BEGIN:VCALENDAR
VERSION:2.0
PRODID:-//Dorset County ASA - ECPv4.8.1//NONSGML v1.0//EN
CALSCALE:GREGORIAN
METHOD:PUBLISH
X-WR-CALNAME:Dorset County ASA
X-ORIGINAL-URL:https://beta.dorsetasa.org
X-WR-CALDESC:Events for Dorset County ASA
BEGIN:VEVENT
DTSTART;TZID=UTC+0:20160204T194500
DTEND;TZID=UTC+0:20160204T213000
DTSTAMP:20260423T143559
CREATED:20160114T102900Z
LAST-MODIFIED:20160114T103040Z
UID:1592-1454615100-1454621400@beta.dorsetasa.org
SUMMARY:DCASA Executive meeting
DESCRIPTION:
URL:https://beta.dorsetasa.org/calendar/dcasa-executive-meeting-3/
LOCATION:Dorset Youth Association\, Lubbecke Way\, Dorchester DT1 1QL
END:VEVENT
END:VCALENDAR