BEGIN:VCALENDAR
VERSION:2.0
PRODID:-//Dorset County ASA - ECPv4.8.1//NONSGML v1.0//EN
CALSCALE:GREGORIAN
METHOD:PUBLISH
X-WR-CALNAME:Dorset County ASA
X-ORIGINAL-URL:https://beta.dorsetasa.org
X-WR-CALDESC:Events for Dorset County ASA
BEGIN:VEVENT
DTSTART;TZID=UTC+0:20160602T190000
DTEND;TZID=UTC+0:20160602T213000
DTSTAMP:20260422T223450
CREATED:20160114T103936Z
LAST-MODIFIED:20160114T103936Z
UID:1599-1464894000-1464903000@beta.dorsetasa.org
SUMMARY:DCASA Annual General Meeting
DESCRIPTION:
URL:https://beta.dorsetasa.org/calendar/dcasa-annual-general-meeting/
LOCATION:Dorset Youth Association\, Lubbecke Way\, Dorchester DT1 1QL
END:VEVENT
END:VCALENDAR