BEGIN:VCALENDAR
VERSION:2.0
PRODID:-//Dorset County ASA - ECPv4.8.1//NONSGML v1.0//EN
CALSCALE:GREGORIAN
METHOD:PUBLISH
X-WR-CALNAME:Dorset County ASA
X-ORIGINAL-URL:https://beta.dorsetasa.org
X-WR-CALDESC:Events for Dorset County ASA
BEGIN:VEVENT
DTSTART;TZID=Europe/London:20150604T190000
DTEND;TZID=Europe/London:20150604T213000
DTSTAMP:20260424T035332
CREATED:20150202T152947Z
LAST-MODIFIED:20150202T152947Z
UID:1063-1433444400-1433453400@beta.dorsetasa.org
SUMMARY:DCASA AGM 2015
DESCRIPTION:
URL:https://beta.dorsetasa.org/calendar/dcasa-agm-2015/
LOCATION:Dorchester
END:VEVENT
END:VCALENDAR