BEGIN:VCALENDAR
VERSION:2.0
PRODID:-//Dorset County ASA - ECPv4.8.1//NONSGML v1.0//EN
CALSCALE:GREGORIAN
METHOD:PUBLISH
X-WR-CALNAME:Dorset County ASA
X-ORIGINAL-URL:https://beta.dorsetasa.org
X-WR-CALDESC:Events for Dorset County ASA
BEGIN:VEVENT
DTSTART;TZID=UTC+0:20170311T180000
DTEND;TZID=UTC+0:20170311T210000
DTSTAMP:20260419T132812
CREATED:20161214T125313Z
LAST-MODIFIED:20161214T125313Z
UID:2120-1489255200-1489266000@beta.dorsetasa.org
SUMMARY:2017 Dorset Novice Swimming League Round 3
DESCRIPTION:
URL:https://beta.dorsetasa.org/calendar/2017-dorset-novice-swimming-league-round-3/
LOCATION:Littledown & Dorchester
END:VEVENT
END:VCALENDAR