BEGIN:VCALENDAR
VERSION:2.0
PRODID:-//Dorset County ASA - ECPv4.8.1//NONSGML v1.0//EN
CALSCALE:GREGORIAN
METHOD:PUBLISH
X-WR-CALNAME:Dorset County ASA
X-ORIGINAL-URL:https://beta.dorsetasa.org
X-WR-CALDESC:Events for Dorset County ASA
BEGIN:VEVENT
DTSTART;TZID=UTC+0:20170211T180000
DTEND;TZID=UTC+0:20170211T210000
DTSTAMP:20260419T204400
CREATED:20161214T125220Z
LAST-MODIFIED:20161214T125220Z
UID:2118-1486836000-1486846800@beta.dorsetasa.org
SUMMARY:2017 Dorset Novice Swimming League Round 2
DESCRIPTION:
URL:https://beta.dorsetasa.org/calendar/2017-dorset-novice-swimming-league-round-2/
LOCATION:Weymouth & Dorchester
END:VEVENT
END:VCALENDAR