BEGIN:VCALENDAR
VERSION:2.0
PRODID:-//Dorset County ASA - ECPv4.8.1//NONSGML v1.0//EN
CALSCALE:GREGORIAN
METHOD:PUBLISH
X-WR-CALNAME:Dorset County ASA
X-ORIGINAL-URL:https://beta.dorsetasa.org
X-WR-CALDESC:Events for Dorset County ASA
BEGIN:VEVENT
DTSTART;TZID=UTC+0:20170218T100000
DTEND;TZID=UTC+0:20170219T183000
DTSTAMP:20260419T164416
CREATED:20160909T163603Z
LAST-MODIFIED:20161203T115004Z
UID:1988-1487412000-1487529000@beta.dorsetasa.org
SUMMARY:2017 Dorset County Championships
DESCRIPTION:2017-dorset-county-championships-031216
URL:https://beta.dorsetasa.org/calendar/2017-dorset-county-championships-5/
LOCATION:Littledown
CATEGORIES:Swimming
END:VEVENT
END:VCALENDAR