BEGIN:VCALENDAR
VERSION:2.0
PRODID:-//Dorset County ASA - ECPv4.8.1//NONSGML v1.0//EN
CALSCALE:GREGORIAN
METHOD:PUBLISH
X-WR-CALNAME:Dorset County ASA
X-ORIGINAL-URL:https://beta.dorsetasa.org
X-WR-CALDESC:Events for Dorset County ASA
BEGIN:VEVENT
DTSTART;TZID=UTC+0:20160423T133000
DTEND;TZID=UTC+0:20160423T203000
DTSTAMP:20260423T002059
CREATED:20150623T085650Z
LAST-MODIFIED:20151124T133810Z
UID:1346-1461418200-1461443400@beta.dorsetasa.org
SUMMARY:2016 Dorset Graded Meet
DESCRIPTION:2016 Dorset Graded Meet 221115
URL:https://beta.dorsetasa.org/calendar/2016-dorset-graded-meet/
LOCATION:Dorchester
CATEGORIES:Swimming
END:VEVENT
END:VCALENDAR