BEGIN:VCALENDAR
VERSION:2.0
PRODID:-//Dorset County ASA - ECPv4.8.1//NONSGML v1.0//EN
CALSCALE:GREGORIAN
METHOD:PUBLISH
X-WR-CALNAME:Dorset County ASA
X-ORIGINAL-URL:https://beta.dorsetasa.org
X-WR-CALDESC:Events for Dorset County ASA
BEGIN:VEVENT
DTSTART;TZID=UTC+0:20160220T101500
DTEND;TZID=UTC+0:20160221T193000
DTSTAMP:20260423T100510
CREATED:20150623T084702Z
LAST-MODIFIED:20160104T164200Z
UID:1341-1455963300-1456083000@beta.dorsetasa.org
SUMMARY:2016 Dorset County Championships
DESCRIPTION:2016 Dorset County Championships 040116
URL:https://beta.dorsetasa.org/calendar/2016-dorset-county-championships/
LOCATION:Littledown
CATEGORIES:Swimming
END:VEVENT
END:VCALENDAR