BEGIN:VCALENDAR
VERSION:2.0
PRODID:-//Dorset County ASA - ECPv4.8.1//NONSGML v1.0//EN
CALSCALE:GREGORIAN
METHOD:PUBLISH
X-WR-CALNAME:Dorset County ASA
X-ORIGINAL-URL:https://beta.dorsetasa.org
X-WR-CALDESC:Events for Dorset County ASA
BEGIN:VEVENT
DTSTART;TZID=Europe/London:20150425T140000
DTEND;TZID=Europe/London:20150425T200000
DTSTAMP:20260424T052828
CREATED:20140419T195549Z
LAST-MODIFIED:20150403T142435Z
UID:927-1429970400-1429992000@beta.dorsetasa.org
SUMMARY:Dorset Graded Meet 2015
DESCRIPTION:2015 Dorset Graded Meet 030415
URL:https://beta.dorsetasa.org/calendar/2015-inaugural-dorset-novice-competition-provisional/
LOCATION:Dorchester
CATEGORIES:Swimming
END:VEVENT
END:VCALENDAR