BEGIN:VCALENDAR
VERSION:2.0
PRODID:-//Dorset County ASA - ECPv4.8.1//NONSGML v1.0//EN
CALSCALE:GREGORIAN
METHOD:PUBLISH
X-WR-CALNAME:Dorset County ASA
X-ORIGINAL-URL:https://beta.dorsetasa.org
X-WR-CALDESC:Events for Dorset County ASA
BEGIN:VEVENT
DTSTART;TZID=Europe/London:20150215T123000
DTEND;TZID=Europe/London:20150215T190000
DTSTAMP:20260424T235300
CREATED:20140519T200114Z
LAST-MODIFIED:20140519T200114Z
UID:929-1424003400-1424026800@beta.dorsetasa.org
SUMMARY:2015 Dorset Masters Championships
DESCRIPTION:
URL:https://beta.dorsetasa.org/calendar/2015-dorset-masters-championships/
LOCATION:Rossmore
CATEGORIES:Masters,Swimming
END:VEVENT
END:VCALENDAR