BEGIN:VCALENDAR
VERSION:2.0
PRODID:-//Dorset County ASA - ECPv4.8.1//NONSGML v1.0//EN
CALSCALE:GREGORIAN
METHOD:PUBLISH
X-WR-CALNAME:Dorset County ASA
X-ORIGINAL-URL:https://beta.dorsetasa.org
X-WR-CALDESC:Events for Dorset County ASA
BEGIN:VEVENT
DTSTART;TZID=Europe/London:20150321T180000
DTEND;TZID=Europe/London:20150321T210000
DTSTAMP:20260424T085954
CREATED:20140519T200218Z
LAST-MODIFIED:20140519T200218Z
UID:932-1426960800-1426971600@beta.dorsetasa.org
SUMMARY:2015 Dorset Masters Championships (long distance events)
DESCRIPTION:
URL:https://beta.dorsetasa.org/calendar/2015-dorset-masters-championships-long-distance-events/
LOCATION:Purbeck LC
CATEGORIES:Masters,Swimming
END:VEVENT
END:VCALENDAR