BEGIN:VCALENDAR
VERSION:2.0
PRODID:-//Dorset County ASA - ECPv4.8.1//NONSGML v1.0//EN
CALSCALE:GREGORIAN
METHOD:PUBLISH
X-WR-CALNAME:Dorset County ASA
X-ORIGINAL-URL:https://beta.dorsetasa.org
X-WR-CALDESC:Events for Dorset County ASA
BEGIN:VEVENT
DTSTART;TZID=Europe/London:20150704T110000
DTEND;TZID=Europe/London:20150704T200000
DTSTAMP:20260424T002508
CREATED:20140519T195336Z
LAST-MODIFIED:20150609T142540Z
UID:923-1436007600-1436040000@beta.dorsetasa.org
SUMMARY:2015 Dorset Development Competition
DESCRIPTION:2015 Dorset Development Competition Rev090615
URL:https://beta.dorsetasa.org/calendar/2015-dorset-development-competition/
LOCATION:Littledown
CATEGORIES:Swimming
END:VEVENT
END:VCALENDAR