BEGIN:VCALENDAR
VERSION:2.0
PRODID:-//Dorset County ASA - ECPv4.8.1//NONSGML v1.0//EN
CALSCALE:GREGORIAN
METHOD:PUBLISH
X-WR-CALNAME:Dorset County ASA
X-ORIGINAL-URL:https://beta.dorsetasa.org
X-WR-CALDESC:Events for Dorset County ASA
BEGIN:VEVENT
DTSTART;TZID=Europe/London:20150705T111500
DTEND;TZID=Europe/London:20150705T200000
DTSTAMP:20260423T223139
CREATED:20140519T195416Z
LAST-MODIFIED:20150623T090728Z
UID:925-1436094900-1436126400@beta.dorsetasa.org
SUMMARY:2015 Dorset Development Competition
DESCRIPTION:2015 Dorset Development Competition Rev090615
URL:https://beta.dorsetasa.org/calendar/2015-dorset-development-competition-2/
LOCATION:Littledown
CATEGORIES:Swimming
END:VEVENT
END:VCALENDAR