BEGIN:VCALENDAR
VERSION:2.0
PRODID:-//Dorset County ASA - ECPv4.8.1//NONSGML v1.0//EN
CALSCALE:GREGORIAN
METHOD:PUBLISH
X-WR-CALNAME:Dorset County ASA
X-ORIGINAL-URL:https://beta.dorsetasa.org
X-WR-CALDESC:Events for Dorset County ASA
BEGIN:VEVENT
DTSTART;TZID=Europe/London:20150314T140000
DTEND;TZID=Europe/London:20150314T190000
DTSTAMP:20260424T134830
CREATED:20140519T195237Z
LAST-MODIFIED:20150224T161208Z
UID:921-1426341600-1426359600@beta.dorsetasa.org
SUMMARY:2015 Dorset County Championships (long distance events)
DESCRIPTION:2015 Dorset County Championships 240215
URL:https://beta.dorsetasa.org/calendar/2015-dorset-county-championships-long-distance-events/
LOCATION:Dorchester
CATEGORIES:Swimming
END:VEVENT
END:VCALENDAR