BEGIN:VCALENDAR
VERSION:2.0
PRODID:-//Dorset County ASA - ECPv4.8.1//NONSGML v1.0//EN
CALSCALE:GREGORIAN
METHOD:PUBLISH
X-WR-CALNAME:Dorset County ASA
X-ORIGINAL-URL:https://beta.dorsetasa.org
X-WR-CALDESC:Events for Dorset County ASA
BEGIN:VEVENT
DTSTART;TZID=Europe/London:20150222T100000
DTEND;TZID=Europe/London:20150222T190000
DTSTAMP:20260424T203050
CREATED:20140519T194957Z
LAST-MODIFIED:20150224T160949Z
UID:918-1424599200-1424631600@beta.dorsetasa.org
SUMMARY:2015 Dorset County Championships
DESCRIPTION:2015 Dorset County Championships 240215
URL:https://beta.dorsetasa.org/calendar/2015-dorset-county-championships-2/
LOCATION:Littledown
CATEGORIES:Swimming
END:VEVENT
END:VCALENDAR