BEGIN:VCALENDAR
VERSION:2.0
PRODID:-//Dorset County ASA - ECPv4.8.1//NONSGML v1.0//EN
CALSCALE:GREGORIAN
METHOD:PUBLISH
X-WR-CALNAME:Dorset County ASA
X-ORIGINAL-URL:https://beta.dorsetasa.org
X-WR-CALDESC:Events for Dorset County ASA
BEGIN:VEVENT
DTSTART;TZID=Europe/London:20150627T103000
DTEND;TZID=Europe/London:20150628T140000
DTSTAMP:20260424T021737
CREATED:20150202T153159Z
LAST-MODIFIED:20150202T153159Z
UID:1064-1435401000-1435500000@beta.dorsetasa.org
SUMMARY:2015 County Talent ID camp
DESCRIPTION:
URL:https://beta.dorsetasa.org/calendar/2015-county-talent-id-camp/
LOCATION:Bath
END:VEVENT
END:VCALENDAR