BEGIN:VCALENDAR
VERSION:2.0
PRODID:-//Dorset County ASA - ECPv4.8.1//NONSGML v1.0//EN
CALSCALE:GREGORIAN
METHOD:PUBLISH
X-WR-CALNAME:Dorset County ASA
X-ORIGINAL-URL:https://beta.dorsetasa.org
X-WR-CALDESC:Events for Dorset County ASA
BEGIN:VEVENT
DTSTART;TZID=Europe/London:20160312T180000
DTEND;TZID=Europe/London:20160312T210000
DTSTAMP:20260423T051142
CREATED:20150623T090138Z
LAST-MODIFIED:20150623T090602Z
UID:1351-1457805600-1457816400@beta.dorsetasa.org
SUMMARY:2016 Dorset Novice League
DESCRIPTION:
URL:https://beta.dorsetasa.org/calendar/2010-dorset-novice-league/
LOCATION:Littledown and Dorchester
CATEGORIES:Novice League,Swimming
END:VEVENT
END:VCALENDAR